BEGIN:VCALENDAR
VERSION:2.0
PRODID:-//Trawler-Calendar-Tool 0.2
METHOD:PUBLISH
BEGIN:VTIMEZONE
TZID:Europe/Berlin
BEGIN:STANDARD
TZNAME:CET
DTSTART:20100101T010000
RRULE:FREQ=YEARLY;BYDAY=-1SU;BYMONTH=10
TZOFFSETFROM:+0200
TZOFFSETTO:+0100
END:STANDARD
BEGIN:DAYLIGHT
TZNAME:CEST
DTSTART:20100101T010000
RRULE:FREQ=YEARLY;BYDAY=-1SU;BYMONTH=3
TZOFFSETFROM:+0100
TZOFFSETTO:+0200
END:DAYLIGHT
END:VTIMEZONE
X-WR-TIMEZONE:Europe/Berlin
X-ORIGINAL-URL:https://www.spd-denzlingen.de/termine/
BEGIN:VEVENT
DTSTART;TZID=Europe/Berlin:20260421T183000
DTEND;TZID=Europe/Berlin:20260421T200000
LOCATION:Cafe im Hinterhaus EM
SUMMARY:Poli-Tisch
DESCRIPTION:Unser Stammtisch oder auch Poli-Tisch genannt. Ein Format für den
   offenen Austausch.
X-ALT-DESC;FMTTYPE=text/plain:Unser Stammtisch oder auch Poli-Tisch genannt. Ein Format f&uuml\;r den
   offenen Austausch.
PRIORITY:5
UID:wscms192309-jusem-0bcd8cd1d351cea3fb74e3bf447da139
URL:https://www.spd-denzlingen.de/calendar192309.ics
END:VEVENT
END:VCALENDAR